BEGIN:VCALENDAR
VERSION:2.0
PRODID:icalendar-ruby
CALSCALE:GREGORIAN
METHOD:PUBLISH
BEGIN:VEVENT
DTSTAMP:20260423T153804Z
UID:141-323473@newvisioncsl.org
DTSTART:20260426T190000Z
DTEND:20260426T203000Z
CLASS:PUBLIC
CREATED:20260420T115846
DESCRIPTION:Class Details:\nSunday\, 4.26.26\nNoon - 1:30 pm\nIn Grace Chap
 el on Tatum Campus\nFacilitated by: Ralph Potter\, RScP\nCost: $29 (Inclu
 des a Journal) - REGISTER BY 4/20/26 for a personalized Journal!!\nHave yo
 u told yourself that you "can't meditate" because of your monkey mind? It
 ’s time to debunk the myth that meditation is a rigid\, one-size-fits-al
 l chore. The truth is\, meditation is a deeply personal spiritual bridge\,
  and the best practice is the one that allows you to feel truly aligned an
 d present.\nJoin Dr. Ralph Potter for "Meditation-101"\, an immersive work
 shop designed to help you build a practice that honors your unique spirit.
  \nYou will be guided through nine distinct meditation styles—from trad
 itional mantra and visualization to moving meditations and heart-centered 
 stillness. By sampling this diverse menu of techniques\, you’ll discover
  which path allows your spirit to breathe and your mind to settle.\nWhethe
 r you are seeking a moment of peace in a busy world or a deeper connection
  to the Divine\, you will leave with a personalized roadmap for your spiri
 tual journey. Stop forcing a habit that doesn't fit and start nourishing y
 our soul.
LAST-MODIFIED:20260420T115846
LOCATION:Grace Chapel on Tatum Campus
SUMMARY:Meditation 101
URL;VALUE=URI:https://newvisioncsl.org/events/meditation-101--141/2026-04-2
 6
ATTACH;FILENAME=Meditation101-Ralph-Tithely-1500-x-784-px.png;FMTTYPE=image
 /png:https://dq5pwpg1q8ru0.cloudfront.net/2026/04/20/18/35/20/9df25413-065
 5-4400-919e-96be5971688b/Meditation101-Ralph-Tithely-1500-x-784-px.png
END:VEVENT
END:VCALENDAR
