BEGIN:VCALENDAR
VERSION:2.0
PRODID:icalendar-ruby
CALSCALE:GREGORIAN
METHOD:PUBLISH
BEGIN:VEVENT
DTSTAMP:20260422T123718Z
UID:153-313787@newvisioncsl.org
DTSTART:20260503T183000Z
DTEND:20260503T200000Z
CLASS:PUBLIC
CREATED:20260411T131626
DESCRIPTION:Join us in the Social Hall directly after service\, or online i
 n the Main Zoom Room at 11:30 am on Sunday\, May 3\, 2026.
LAST-MODIFIED:20260411T131626
LOCATION:Social Hall and Zoom
SUMMARY:NVC's Town Hall
URL;VALUE=URI:https://newvisioncsl.org/events/nvcs-town-hall--153/2026-05-0
 3
ATTACH;FILENAME=Town-Hall-Meeting-5-3-2026-1500-x-784-px.png;FMTTYPE=image/
 png:https://dq5pwpg1q8ru0.cloudfront.net/2026/04/11/20/16/26/923af890-0c7a
 -42fe-a0d5-c5f6b1ba8099/Town-Hall-Meeting-5-3-2026-1500-x-784-px.png
END:VEVENT
END:VCALENDAR
