BEGIN:VCALENDAR
VERSION:2.0
PRODID:icalendar-ruby
CALSCALE:GREGORIAN
METHOD:PUBLISH
BEGIN:VEVENT
DTSTAMP:20260423T153140Z
UID:142-319327@newvisioncsl.org
DTSTART:20260502T153000Z
DTEND:20260502T173000Z
CLASS:PUBLIC
CREATED:20260416T162250
DESCRIPTION:About this Workshop:\n\n\nSaturday\, May 2nd \n8:30-10:30am\nIn
  the Grace Chapel at New Vision Center for Spiritual Living\nInstructor: S
 ue Powell\, RScP &amp\; Certified Labyrinth Facilitator\nCost: Love Offeri
 ng\n\nVOICES OF PEACE\nA World Labyrinth Day Experience\nWhat happens when
  we come together from different spiritual traditions to walk a labyrinth?
   \nDiscover what connects us all as you listen to reflections from Bahá
 ’í\, Zen Buddhism\, Theravada Buddhism\, and Unity.\nEnrich your walk w
 ith the labyrinth’s “Four R’s”\, plus a newly added “R” to sup
 port your personal journey.\nCultivate peace within and let it ripple out 
 into the world.   \nAll are welcome\, whether this is your first labyri
 nth walk or one of many.\nWalk for Peace. \nWalk for Love.\nWalk Together.
 \nWhere: Grace Chapel at New Vision Center for Spiritual Living\nAddress: 
 18010 N Tatum Blvd\, Phoenix AZ 85032\nWhen: Saturday\, May 2\, 2026\, 8:3
 0 – 10:30 am\nCost: Love Offering\nPlease register and let us know you a
 re coming!\nQuestions:  expect.gr8things@yahoo.com\n
LAST-MODIFIED:20260416T162250
LOCATION:NVC Campus in Grace Chapel
SUMMARY:Walk for Peace
URL;VALUE=URI:https://newvisioncsl.org/events/walk-for-peace/2026-05-02
ATTACH;FILENAME=World-Labyrinth-Day-Tithely-1500-x-784-px.png;FMTTYPE=image
 /png:https://dq5pwpg1q8ru0.cloudfront.net/2026/04/12/06/02/55/53fedb84-ac5
 a-40e6-8c8e-e4e346c00bdd/World-Labyrinth-Day-Tithely-1500-x-784-px.png
END:VEVENT
END:VCALENDAR
